BEGIN:VCALENDAR
VERSION:2.0
PRODID:-//Sabre//Sabre VObject 4.5.0//EN
CALSCALE:GREGORIAN
BEGIN:VEVENT
UID:sabre-vobject-93de9be3-ed6c-4116-8b13-93fd1d372aa7
DTSTAMP:20260422T150151Z
LOCATION:Instytut Studiów Międzynarodowych i Bezpieczeństwa Konsulat Gen
 eralny Niemiec we Wrocławiu
SUMMARY:Trudna historia\, bieżące wyzwania\, wspólna przyszłość &#821
 1\; polsko-niemiecka konferencja naukowa Zakładu Badań Niemcoznawczych
DESCRIPTION:
DTSTART;VALUE=DATE:20240219
DTEND;VALUE=DATE:20240221
END:VEVENT
END:VCALENDAR
