BEGIN:VCALENDAR
VERSION:2.0
PRODID:-//Sabre//Sabre VObject 4.5.0//EN
CALSCALE:GREGORIAN
BEGIN:VEVENT
UID:sabre-vobject-8ca9e82b-97fc-4676-8408-c0a7479ddd23
DTSTAMP:20260422T150156Z
LOCATION:Ivan Franko National University of Lviv 19\, Sichovyh Strilciv Str
 .\, Lviv\, Ukraine
SUMMARY:Ukraine and transformation of international security system: Ukrain
 ian Peace Formula for the New World Order
DESCRIPTION:
DTSTART;VALUE=DATE-TIME:20240516T213700Z
DTEND;VALUE=DATE-TIME:20240517T213800Z
END:VEVENT
END:VCALENDAR
